{
 "currentVersion": 10.31,
 "serviceDescription": "Mapa base para trabajar con la capa Atractylis en edición. Es un recorte de la ortofoto OrtoExpress accedida a través de un servicio WMS que ofrece GRAFCAN. La ortofoto es la vigente en julio 2014",
 "mapName": "Layers",
 "description": "",
 "copyrightText": "OAG, GRAFCAN (ortoExpress)",
 "supportsDynamicLayers": false,
 "layers": [
  {
   "id": 0,
   "name": "Mapa base del LIC ES7020129",
   "parentLayerId": -1,
   "defaultVisibility": true,
   "subLayerIds": null,
   "minScale": 5000,
   "maxScale": 0
  }
 ],
 "tables": [],
 "spatialReference": {
  "wkid": 102100,
  "latestWkid": 3857
 },
 "singleFusedMapCache": true,
 "tileInfo": {
  "rows": 256,
  "cols": 256,
  "dpi": 96,
  "format": "MIXED",
  "compressionQuality": 75,
  "origin": {
   "x": -20037700,
   "y": 30241100
  },
  "spatialReference": {
   "wkid": 102100,
   "latestWkid": 3857
  },
  "lods": [
   {
    "level": 0,
    "resolution": 1.0583354500042335,
    "scale": 4000
   },
   {
    "level": 1,
    "resolution": 0.5291677250021167,
    "scale": 2000
   },
   {
    "level": 2,
    "resolution": 0.26458386250105836,
    "scale": 1000
   },
   {
    "level": 3,
    "resolution": 0.13229193125052918,
    "scale": 500
   },
   {
    "level": 4,
    "resolution": 0.06614596562526459,
    "scale": 250
   },
   {
    "level": 5,
    "resolution": 0.026458386250105836,
    "scale": 100
   }
  ]
 },
 "initialExtent": {
  "xmin": -1837961.8310766346,
  "ymin": 3258065.290473508,
  "xmax": -1837240.9503304008,
  "ymax": 3258504.252348389,
  "spatialReference": {
   "cs": "pcs",
   "wkid": 102100
  }
 },
 "fullExtent": {
  "xmin": -1837957,
  "ymin": 3258064.0000000005,
  "xmax": -1837122,
  "ymax": 3258503.9999999977,
  "spatialReference": {
   "cs": "pcs",
   "wkid": 102100
  }
 },
 "minScale": 4000,
 "maxScale": 100,
 "units": "esriMeters",
 "supportedImageFormatTypes": "PNG32,PNG24,PNG,JPG,DIB,TIFF,EMF,PS,PDF,GIF,SVG,SVGZ,BMP",
 "documentInfo": {
  "Title": "Mapa base de la Piña de Mar (Atractylis preauxiana)",
  "Author": "José Andrés Sevilla Hernández",
  "Comments": "Mapa base para trabajar con la capa Atractylis en edición. Está generado por extracción de un área rectangular de la ortofoto de Grafcan Ortoexpress vigente en julio 2014. Es la base de un servicio web teselado y capaz de trabajar con escalas muy grandes, hasta 1:125. Normalmente los mapas base públicos o de mayor área geográfica no son utilizables a esas escalas, así que hamos creado uno con la excusa del trabajo de seguimiento de los pies de esta especie vegetal.\n",
  "Subject": "Mapa base del área de la Piña de Mar (Atractylis preauxiana) cercana al Puerto Industrial de Granadilla",
  "Category": "",
  "AntialiasingMode": "None",
  "TextAntialiasingMode": "Force",
  "Keywords": "oag,granadilla,atractylis,basemap,edicion,redmic,ortoexpress"
 },
 "capabilities": "Map,Data",
 "supportedQueryFormats": "JSON, AMF",
 "exportTilesAllowed": false,
 "maxRecordCount": 1000,
 "maxImageHeight": 4096,
 "maxImageWidth": 4096,
 "supportedExtensions": "KmlServer, WMSServer"
}
