{
 "currentVersion": 10.31,
 "serviceDescription": "Resultado del estudio de la bionomía con técnicas de teledetección a partir de fotos satelitales según metodologías desarrolladas para el OAG por el GPIT de la Universidad de Las Palmas\n de Gran Canaria.",
 "mapName": "Análisis Bionómico 2015",
 "description": "",
 "copyrightText": "OAG, GPIT (ULPGC)",
 "supportsDynamicLayers": false,
 "layers": [
  {
   "id": 0,
   "name": "2019 (21 de diciembre de 2019)",
   "parentLayerId": -1,
   "defaultVisibility": true,
   "subLayerIds": [
    1,
    2,
    3,
    4,
    5
   ],
   "minScale": 100000,
   "maxScale": 0
  },
  {
   "id": 1,
   "name": "Sebal denso",
   "parentLayerId": 0,
   "defaultVisibility": false,
   "subLayerIds": null,
   "minScale": 100000,
   "maxScale": 0
  },
  {
   "id": 2,
   "name": "Sebadal medio",
   "parentLayerId": 0,
   "defaultVisibility": false,
   "subLayerIds": null,
   "minScale": 100000,
   "maxScale": 0
  },
  {
   "id": 3,
   "name": "Sebadal laxo",
   "parentLayerId": 0,
   "defaultVisibility": false,
   "subLayerIds": null,
   "minScale": 100000,
   "maxScale": 0
  },
  {
   "id": 4,
   "name": "Sebadal vestigial",
   "parentLayerId": 0,
   "defaultVisibility": false,
   "subLayerIds": null,
   "minScale": 100000,
   "maxScale": 0
  },
  {
   "id": 5,
   "name": "Bionómico",
   "parentLayerId": 0,
   "defaultVisibility": true,
   "subLayerIds": null,
   "minScale": 100000,
   "maxScale": 0
  },
  {
   "id": 6,
   "name": "2018 (21 de abril de 2018)",
   "parentLayerId": -1,
   "defaultVisibility": false,
   "subLayerIds": [
    7,
    8,
    9,
    10,
    11
   ],
   "minScale": 100000,
   "maxScale": 0
  },
  {
   "id": 7,
   "name": "Sebadal denso",
   "parentLayerId": 6,
   "defaultVisibility": true,
   "subLayerIds": null,
   "minScale": 100000,
   "maxScale": 0
  },
  {
   "id": 8,
   "name": "Sebadal medio",
   "parentLayerId": 6,
   "defaultVisibility": true,
   "subLayerIds": null,
   "minScale": 100000,
   "maxScale": 0
  },
  {
   "id": 9,
   "name": "Sebadal laxo",
   "parentLayerId": 6,
   "defaultVisibility": true,
   "subLayerIds": null,
   "minScale": 100000,
   "maxScale": 0
  },
  {
   "id": 10,
   "name": "Sebadal vestigial",
   "parentLayerId": 6,
   "defaultVisibility": true,
   "subLayerIds": null,
   "minScale": 100000,
   "maxScale": 0
  },
  {
   "id": 11,
   "name": "Bionómico",
   "parentLayerId": 6,
   "defaultVisibility": true,
   "subLayerIds": null,
   "minScale": 100000,
   "maxScale": 0
  },
  {
   "id": 12,
   "name": "2017 (23 de enero de 2018)",
   "parentLayerId": -1,
   "defaultVisibility": false,
   "subLayerIds": [
    13,
    14,
    15,
    16,
    17
   ],
   "minScale": 100000,
   "maxScale": 0
  },
  {
   "id": 13,
   "name": "Sebadal denso",
   "parentLayerId": 12,
   "defaultVisibility": true,
   "subLayerIds": null,
   "minScale": 100000,
   "maxScale": 0
  },
  {
   "id": 14,
   "name": "Sebadal medio",
   "parentLayerId": 12,
   "defaultVisibility": true,
   "subLayerIds": null,
   "minScale": 100000,
   "maxScale": 0
  },
  {
   "id": 15,
   "name": "Sebadal laxo",
   "parentLayerId": 12,
   "defaultVisibility": true,
   "subLayerIds": null,
   "minScale": 100000,
   "maxScale": 0
  },
  {
   "id": 16,
   "name": "Sebadal vestigial",
   "parentLayerId": 12,
   "defaultVisibility": true,
   "subLayerIds": null,
   "minScale": 100000,
   "maxScale": 0
  },
  {
   "id": 17,
   "name": "Bionómico",
   "parentLayerId": 12,
   "defaultVisibility": true,
   "subLayerIds": null,
   "minScale": 100000,
   "maxScale": 0
  },
  {
   "id": 18,
   "name": "2016 (02 de diciembre de 2016)",
   "parentLayerId": -1,
   "defaultVisibility": false,
   "subLayerIds": [
    19,
    20,
    21,
    22,
    23
   ],
   "minScale": 100000,
   "maxScale": 0
  },
  {
   "id": 19,
   "name": "Sebadal denso",
   "parentLayerId": 18,
   "defaultVisibility": true,
   "subLayerIds": null,
   "minScale": 100000,
   "maxScale": 0
  },
  {
   "id": 20,
   "name": "Sebadal medio",
   "parentLayerId": 18,
   "defaultVisibility": true,
   "subLayerIds": null,
   "minScale": 100000,
   "maxScale": 0
  },
  {
   "id": 21,
   "name": "Sebadal laxo",
   "parentLayerId": 18,
   "defaultVisibility": true,
   "subLayerIds": null,
   "minScale": 100000,
   "maxScale": 0
  },
  {
   "id": 22,
   "name": "Sebadal vestigial",
   "parentLayerId": 18,
   "defaultVisibility": true,
   "subLayerIds": null,
   "minScale": 100000,
   "maxScale": 0
  },
  {
   "id": 23,
   "name": "Bionómico",
   "parentLayerId": 18,
   "defaultVisibility": true,
   "subLayerIds": null,
   "minScale": 100000,
   "maxScale": 0
  },
  {
   "id": 24,
   "name": "2015 (31 de julio de 2015)",
   "parentLayerId": -1,
   "defaultVisibility": false,
   "subLayerIds": [
    25,
    26,
    27,
    28,
    29
   ],
   "minScale": 100000,
   "maxScale": 0
  },
  {
   "id": 25,
   "name": "Sebadal denso",
   "parentLayerId": 24,
   "defaultVisibility": true,
   "subLayerIds": null,
   "minScale": 100000,
   "maxScale": 0
  },
  {
   "id": 26,
   "name": "Sebadal medio",
   "parentLayerId": 24,
   "defaultVisibility": true,
   "subLayerIds": null,
   "minScale": 100000,
   "maxScale": 0
  },
  {
   "id": 27,
   "name": "Sebadal laxo",
   "parentLayerId": 24,
   "defaultVisibility": true,
   "subLayerIds": null,
   "minScale": 100000,
   "maxScale": 0
  },
  {
   "id": 28,
   "name": "Sebadal vestigial",
   "parentLayerId": 24,
   "defaultVisibility": true,
   "subLayerIds": null,
   "minScale": 100000,
   "maxScale": 0
  },
  {
   "id": 29,
   "name": "Bionómico",
   "parentLayerId": 24,
   "defaultVisibility": true,
   "subLayerIds": null,
   "minScale": 100000,
   "maxScale": 0
  },
  {
   "id": 30,
   "name": "2014 (22 de septiembre de 2014)",
   "parentLayerId": -1,
   "defaultVisibility": false,
   "subLayerIds": [
    31,
    34,
    37,
    40,
    43
   ],
   "minScale": 100000,
   "maxScale": 0
  },
  {
   "id": 31,
   "name": "Sebadal vestigial",
   "parentLayerId": 30,
   "defaultVisibility": true,
   "subLayerIds": [
    32,
    33
   ],
   "minScale": 100000,
   "maxScale": 0
  },
  {
   "id": 32,
   "name": "Sebadal vestigial 2014-09-22 norte",
   "parentLayerId": 31,
   "defaultVisibility": true,
   "subLayerIds": null,
   "minScale": 100000,
   "maxScale": 0
  },
  {
   "id": 33,
   "name": "Sebadal vestigial 2014-09-22 sur",
   "parentLayerId": 31,
   "defaultVisibility": true,
   "subLayerIds": null,
   "minScale": 100000,
   "maxScale": 0
  },
  {
   "id": 34,
   "name": "Sebadal laxo",
   "parentLayerId": 30,
   "defaultVisibility": true,
   "subLayerIds": [
    35,
    36
   ],
   "minScale": 100000,
   "maxScale": 0
  },
  {
   "id": 35,
   "name": "Sebadal laxo 2014-09-22 norte",
   "parentLayerId": 34,
   "defaultVisibility": true,
   "subLayerIds": null,
   "minScale": 100000,
   "maxScale": 0
  },
  {
   "id": 36,
   "name": "Sebadal laxo 2014-09-22 sur",
   "parentLayerId": 34,
   "defaultVisibility": true,
   "subLayerIds": null,
   "minScale": 100000,
   "maxScale": 0
  },
  {
   "id": 37,
   "name": "Sebadal medio",
   "parentLayerId": 30,
   "defaultVisibility": true,
   "subLayerIds": [
    38,
    39
   ],
   "minScale": 100000,
   "maxScale": 0
  },
  {
   "id": 38,
   "name": "Sebadal medio 2014-09-22 norte",
   "parentLayerId": 37,
   "defaultVisibility": true,
   "subLayerIds": null,
   "minScale": 100000,
   "maxScale": 0
  },
  {
   "id": 39,
   "name": "Sebadal medio 2014-09-22 sur",
   "parentLayerId": 37,
   "defaultVisibility": true,
   "subLayerIds": null,
   "minScale": 100000,
   "maxScale": 0
  },
  {
   "id": 40,
   "name": "Sebadal denso",
   "parentLayerId": 30,
   "defaultVisibility": true,
   "subLayerIds": [
    41,
    42
   ],
   "minScale": 100000,
   "maxScale": 0
  },
  {
   "id": 41,
   "name": "Sebadal denso 2014-09-22 norte",
   "parentLayerId": 40,
   "defaultVisibility": true,
   "subLayerIds": null,
   "minScale": 100000,
   "maxScale": 0
  },
  {
   "id": 42,
   "name": "Sebadal denso 2014-09-22 sur",
   "parentLayerId": 40,
   "defaultVisibility": true,
   "subLayerIds": null,
   "minScale": 100000,
   "maxScale": 0
  },
  {
   "id": 43,
   "name": "Bionómico",
   "parentLayerId": 30,
   "defaultVisibility": true,
   "subLayerIds": [
    44,
    45
   ],
   "minScale": 100000,
   "maxScale": 0
  },
  {
   "id": 44,
   "name": "bionómico completo 2014-09-22 norte",
   "parentLayerId": 43,
   "defaultVisibility": true,
   "subLayerIds": null,
   "minScale": 100000,
   "maxScale": 0
  },
  {
   "id": 45,
   "name": "bionómico completo 2014-09-22 sur",
   "parentLayerId": 43,
   "defaultVisibility": true,
   "subLayerIds": null,
   "minScale": 100000,
   "maxScale": 0
  },
  {
   "id": 46,
   "name": "2013",
   "parentLayerId": -1,
   "defaultVisibility": false,
   "subLayerIds": [
    47,
    56
   ],
   "minScale": 100000,
   "maxScale": 0
  },
  {
   "id": 47,
   "name": "4 de octubre de 2013",
   "parentLayerId": 46,
   "defaultVisibility": false,
   "subLayerIds": [
    48,
    53
   ],
   "minScale": 100000,
   "maxScale": 0
  },
  {
   "id": 48,
   "name": "Sebadal",
   "parentLayerId": 47,
   "defaultVisibility": true,
   "subLayerIds": [
    49,
    50,
    51,
    52
   ],
   "minScale": 100000,
   "maxScale": 0
  },
  {
   "id": 49,
   "name": "sebadal 2013-10-04 norte",
   "parentLayerId": 48,
   "defaultVisibility": true,
   "subLayerIds": null,
   "minScale": 100000,
   "maxScale": 0
  },
  {
   "id": 50,
   "name": "sebadal denso 2013-10-04 sur",
   "parentLayerId": 48,
   "defaultVisibility": true,
   "subLayerIds": null,
   "minScale": 100000,
   "maxScale": 0
  },
  {
   "id": 51,
   "name": "sebadal medio 2013-10-04 sur",
   "parentLayerId": 48,
   "defaultVisibility": true,
   "subLayerIds": null,
   "minScale": 100000,
   "maxScale": 0
  },
  {
   "id": 52,
   "name": "sebadal laxo 2013-10-04 sur",
   "parentLayerId": 48,
   "defaultVisibility": true,
   "subLayerIds": null,
   "minScale": 100000,
   "maxScale": 0
  },
  {
   "id": 53,
   "name": "Bionómico",
   "parentLayerId": 47,
   "defaultVisibility": false,
   "subLayerIds": [
    54,
    55
   ],
   "minScale": 100000,
   "maxScale": 0
  },
  {
   "id": 54,
   "name": "bionómico completo 2013-10-04 norte",
   "parentLayerId": 53,
   "defaultVisibility": true,
   "subLayerIds": null,
   "minScale": 100000,
   "maxScale": 0
  },
  {
   "id": 55,
   "name": "bionómico completo 2013-10-04 sur",
   "parentLayerId": 53,
   "defaultVisibility": true,
   "subLayerIds": null,
   "minScale": 100000,
   "maxScale": 0
  },
  {
   "id": 56,
   "name": "2 de febrero de 2013",
   "parentLayerId": 46,
   "defaultVisibility": false,
   "subLayerIds": [
    57,
    58
   ],
   "minScale": 100000,
   "maxScale": 0
  },
  {
   "id": 57,
   "name": "Sebadal",
   "parentLayerId": 56,
   "defaultVisibility": true,
   "subLayerIds": null,
   "minScale": 100000,
   "maxScale": 0
  },
  {
   "id": 58,
   "name": "Bionómico",
   "parentLayerId": 56,
   "defaultVisibility": true,
   "subLayerIds": null,
   "minScale": 100000,
   "maxScale": 0
  },
  {
   "id": 59,
   "name": "2012",
   "parentLayerId": -1,
   "defaultVisibility": false,
   "subLayerIds": [
    60,
    63,
    67
   ],
   "minScale": 100000,
   "maxScale": 0
  },
  {
   "id": 60,
   "name": "15 de diciembre de 2012",
   "parentLayerId": 59,
   "defaultVisibility": false,
   "subLayerIds": [
    61,
    62
   ],
   "minScale": 100000,
   "maxScale": 0
  },
  {
   "id": 61,
   "name": "Sebadal",
   "parentLayerId": 60,
   "defaultVisibility": true,
   "subLayerIds": null,
   "minScale": 100000,
   "maxScale": 0
  },
  {
   "id": 62,
   "name": "Bionómico",
   "parentLayerId": 60,
   "defaultVisibility": true,
   "subLayerIds": null,
   "minScale": 100000,
   "maxScale": 0
  },
  {
   "id": 63,
   "name": "10 de noviembre de 2012",
   "parentLayerId": 59,
   "defaultVisibility": false,
   "subLayerIds": [
    64,
    65,
    66
   ],
   "minScale": 100000,
   "maxScale": 0
  },
  {
   "id": 64,
   "name": "Sebadal",
   "parentLayerId": 63,
   "defaultVisibility": true,
   "subLayerIds": null,
   "minScale": 100000,
   "maxScale": 0
  },
  {
   "id": 65,
   "name": "Sebadal laxo",
   "parentLayerId": 63,
   "defaultVisibility": true,
   "subLayerIds": null,
   "minScale": 100000,
   "maxScale": 0
  },
  {
   "id": 66,
   "name": "Bionómico",
   "parentLayerId": 63,
   "defaultVisibility": false,
   "subLayerIds": null,
   "minScale": 100000,
   "maxScale": 0
  },
  {
   "id": 67,
   "name": "8 de enero de 2012",
   "parentLayerId": 59,
   "defaultVisibility": false,
   "subLayerIds": [
    68,
    69
   ],
   "minScale": 100000,
   "maxScale": 0
  },
  {
   "id": 68,
   "name": "Sebadal",
   "parentLayerId": 67,
   "defaultVisibility": true,
   "subLayerIds": null,
   "minScale": 100000,
   "maxScale": 0
  },
  {
   "id": 69,
   "name": "Bionómico",
   "parentLayerId": 67,
   "defaultVisibility": true,
   "subLayerIds": null,
   "minScale": 100000,
   "maxScale": 0
  },
  {
   "id": 70,
   "name": "2011 (01 de diciembre de 2011)",
   "parentLayerId": -1,
   "defaultVisibility": false,
   "subLayerIds": [
    71
   ],
   "minScale": 100000,
   "maxScale": 0
  },
  {
   "id": 71,
   "name": "01 de diciembre de 2011",
   "parentLayerId": 70,
   "defaultVisibility": true,
   "subLayerIds": [
    72,
    73
   ],
   "minScale": 100000,
   "maxScale": 0
  },
  {
   "id": 72,
   "name": "Sebadal",
   "parentLayerId": 71,
   "defaultVisibility": true,
   "subLayerIds": null,
   "minScale": 100000,
   "maxScale": 0
  },
  {
   "id": 73,
   "name": "Bionómico",
   "parentLayerId": 71,
   "defaultVisibility": true,
   "subLayerIds": null,
   "minScale": 100000,
   "maxScale": 0
  }
 ],
 "tables": [],
 "spatialReference": {
  "wkid": 32628,
  "latestWkid": 32628
 },
 "singleFusedMapCache": true,
 "tileInfo": {
  "rows": 256,
  "cols": 256,
  "dpi": 96,
  "format": "PNG",
  "compressionQuality": 0,
  "origin": {
   "x": -5120900,
   "y": 9998100
  },
  "spatialReference": {
   "wkid": 32628,
   "latestWkid": 32628
  },
  "lods": [
   {
    "level": 0,
    "resolution": 33.0729828126323,
    "scale": 125000
   },
   {
    "level": 1,
    "resolution": 16.933367200067735,
    "scale": 64000
   },
   {
    "level": 2,
    "resolution": 8.466683600033868,
    "scale": 32000
   },
   {
    "level": 3,
    "resolution": 4.233341800016934,
    "scale": 16000
   },
   {
    "level": 4,
    "resolution": 2.116670900008467,
    "scale": 8000
   },
   {
    "level": 5,
    "resolution": 1.0583354500042335,
    "scale": 4000
   }
  ]
 },
 "initialExtent": {
  "xmin": 331401.52630289644,
  "ymin": 3099600.7511328827,
  "xmax": 373157.6704212453,
  "ymax": 3119997.761623873,
  "spatialReference": {
   "wkid": 32628,
   "latestWkid": 32628
  }
 },
 "fullExtent": {
  "xmin": 342392.6342577532,
  "ymin": 3102403.3992442596,
  "xmax": 362166.56246638857,
  "ymax": 3112062.5531157586,
  "spatialReference": {
   "wkid": 32628,
   "latestWkid": 32628
  }
 },
 "minScale": 125000,
 "maxScale": 4000,
 "units": "esriMeters",
 "supportedImageFormatTypes": "PNG32,PNG24,PNG,JPG,DIB,TIFF,EMF,PS,PDF,GIF,SVG,SVGZ,BMP",
 "documentInfo": {
  "Title": "Análsis de bionomía costera de Granadilla",
  "Author": "José Andrés Sevilla Hernández, OAG",
  "Comments": "Resultado del estudio de la bionomía con técnicas de teledetección a partir de la foto satelital de 22 de septiembre de 2014, según metodologías desarrolladas para el OAG por el GPIT de la Universidad de Las Palmas\nResultado del estudio de la bionomía con técnicas de teledetección a partir de la foto satelital de 31 de julio de 2015, según metodologías desarrolladas en el OAG junto al GPIT de la Universidad de Las Palmas de Gran Canaria.",
  "Subject": "Resultado del estudio de la bionomía con técnicas de teledetección a partir de la foto satelital de 31 de julio de 2015",
  "Category": "",
  "AntialiasingMode": "None",
  "TextAntialiasingMode": "Force",
  "Keywords": "bionomia,Bionomía marina,bionomico,canarias,conservación,granadilla,oag,OCEANO,plan de vigilancia ambiental,PVA,sebadal,teledetección,ulpgc,worldview,WV2"
 },
 "capabilities": "Map,Query,Data",
 "supportedQueryFormats": "JSON, AMF",
 "exportTilesAllowed": false,
 "maxRecordCount": 1000,
 "maxImageHeight": 4096,
 "maxImageWidth": 4096,
 "supportedExtensions": "KmlServer, WMSServer"
}
