{
 "currentVersion": 10.31,
 "serviceDescription": "",
 "name": "WorldView/MultiWV3_20160625_N",
 "description": "WorldView/MultiWV3_20160625_N",
 "extent": {
  "xmin": -1844168.0578300564,
  "ymin": 3249162.859276739,
  "xmax": -1829603.7272520573,
  "ymax": 3264374.4834126765,
  "spatialReference": {
   "wkid": 102100,
   "latestWkid": 3857
  }
 },
 "initialExtent": {
  "xmin": -1844168.0578300564,
  "ymin": 3249162.859276739,
  "xmax": -1829603.7272520573,
  "ymax": 3264374.4834126765,
  "spatialReference": {
   "wkid": 102100,
   "latestWkid": 3857
  }
 },
 "fullExtent": {
  "xmin": -1844168.0578300564,
  "ymin": 3249162.859276739,
  "xmax": -1829603.7272520573,
  "ymax": 3264374.4834126765,
  "spatialReference": {
   "wkid": 102100,
   "latestWkid": 3857
  }
 },
 "pixelSizeX": 1.6016880000000016,
 "pixelSizeY": 1.6016879999999967,
 "bandCount": 8,
 "pixelType": "U16",
 "minPixelSize": 0,
 "maxPixelSize": 0,
 "copyrightText": "",
 "serviceDataType": "esriImageServiceDataTypeGeneric",
 "minValues": [
  276,
  250,
  275,
  255,
  153,
  177,
  122,
  115
 ],
 "maxValues": [
  1988,
  2020,
  2041,
  2047,
  1985,
  2025,
  2003,
  2047
 ],
 "meanValues": [
  319.89202761447,
  308.09332379038,
  355.18527460317,
  354.63060084946,
  226.94980067669,
  271.07461665353,
  219.676234565,
  194.0323824732
 ],
 "stdvValues": [
  21.391385552433,
  36.204735859041,
  71.462981036607,
  97.738937726505,
  74.83857869594,
  99.27284866752,
  94.317606014167,
  85.768223336216
 ],
 "objectIdField": "",
 "fields": [],
 "capabilities": "Mensuration,Image,Metadata",
 "defaultMosaicMethod": "Center",
 "allowedMosaicMethods": "",
 "sortField": "",
 "sortValue": null,
 "mosaicOperator": "First",
 "defaultCompressionQuality": 75,
 "defaultResamplingMethod": "Bilinear",
 "maxImageHeight": 4100,
 "maxImageWidth": 15000,
 "allowRasterFunction": true,
 "rasterFunctionInfos": [],
 "rasterTypeInfos": [
  {
   "name": "Raster Dataset",
   "description": "Supports all ArcGIS Raster Datasets",
   "help": ""
  }
 ],
 "mensurationCapabilities": "Basic,Base-Top Shadow Height",
 "hasHistograms": true,
 "hasColormap": false,
 "hasRasterAttributeTable": false,
 "minScale": 144447.638572,
 "maxScale": 2256.994353,
 "exportTilesAllowed": false,
 "hasMultidimensions": false,
 "supportsStatistics": false,
 "supportsAdvancedQueries": false,
 "editFieldsInfo": null,
 "ownershipBasedAccessControlForRasters": null,
 "allowComputeTiePoints": false,
 "useStandardizedQueries": true,
 "advancedQueryCapabilities": {
  "useStandardizedQueries": true,
  "supportsStatistics": false,
  "supportsOrderBy": false,
  "supportsDistinct": false,
  "supportsPagination": false
 },
 "spatialReference": {
  "wkid": 102100,
  "latestWkid": 3857
 }
}
