{
 "currentVersion": 10.31,
 "serviceDescription": "",
 "name": "fieldWork/20140922_m2_g_atm_clp_alb",
 "description": "fieldWork/20140922_m2_g_atm_clp_alb",
 "extent": {
  "xmin": -1841095.1116229787,
  "ymin": 3250311.8026997917,
  "xmax": -1829678.0231860708,
  "ymax": 3264184.0328198886,
  "spatialReference": {
   "wkid": 102100,
   "latestWkid": 3857
  }
 },
 "initialExtent": {
  "xmin": -1841095.1116229787,
  "ymin": 3250311.8026997917,
  "xmax": -1829678.0231860708,
  "ymax": 3264184.0328198886,
  "spatialReference": {
   "wkid": 102100,
   "latestWkid": 3857
  }
 },
 "fullExtent": {
  "xmin": -1841095.1116229787,
  "ymin": 3250311.8026997917,
  "xmax": -1829678.0231860708,
  "ymax": 3264184.0328198886,
  "spatialReference": {
   "wkid": 102100,
   "latestWkid": 3857
  }
 },
 "pixelSizeX": 2,
 "pixelSizeY": 2,
 "bandCount": 6,
 "pixelType": "F32",
 "minPixelSize": 0,
 "maxPixelSize": 0,
 "copyrightText": "",
 "serviceDataType": "esriImageServiceDataTypeGeneric",
 "minValues": [
  0,
  0,
  0,
  0,
  0,
  -120
 ],
 "maxValues": [
  0.42960843443871,
  0.54568123817444,
  0.5722182393074,
  0.52795743942261,
  0.49768275022507,
  12.52833366394
 ],
 "meanValues": [
  0.011043044472557,
  0.014000492523073,
  0.0065459062681438,
  0.0031886775377401,
  0.0016958199193539,
  -106.23700329506
 ],
 "stdvValues": [
  0.016075298962904,
  0.020535454419753,
  0.010343538817769,
  0.005736094454742,
  0.0038554905779368,
  32.01815952864
 ],
 "objectIdField": "",
 "fields": [],
 "capabilities": "Image,Metadata,Mensuration",
 "defaultMosaicMethod": "Center",
 "allowedMosaicMethods": "",
 "sortField": "",
 "sortValue": null,
 "mosaicOperator": "First",
 "defaultCompressionQuality": 75,
 "defaultResamplingMethod": "Bilinear",
 "maxImageHeight": 4100,
 "maxImageWidth": 15000,
 "allowRasterFunction": true,
 "rasterFunctionInfos": [],
 "rasterTypeInfos": [
  {
   "name": "Raster Dataset",
   "description": "Supports all ArcGIS Raster Datasets",
   "help": ""
  }
 ],
 "mensurationCapabilities": "Basic",
 "hasHistograms": true,
 "hasColormap": false,
 "hasRasterAttributeTable": false,
 "minScale": 144447.638572,
 "maxScale": 1128.497176,
 "exportTilesAllowed": false,
 "hasMultidimensions": false,
 "supportsStatistics": false,
 "supportsAdvancedQueries": false,
 "editFieldsInfo": null,
 "ownershipBasedAccessControlForRasters": null,
 "allowComputeTiePoints": false,
 "useStandardizedQueries": true,
 "advancedQueryCapabilities": {
  "useStandardizedQueries": true,
  "supportsStatistics": false,
  "supportsOrderBy": false,
  "supportsDistinct": false,
  "supportsPagination": false
 },
 "spatialReference": {
  "wkid": 102100,
  "latestWkid": 3857
 }
}
