View In:
ArcGIS JavaScript
ArcGIS Online map viewer
Google Earth
ArcMap
View Footprint In:
ArcGIS Online map viewer
Service Description: nada
Name: fieldWork/transectos_sebadal_intrapuerto
Description: nada
Single Fused Map Cache: false
Extent:
XMin: 352420.0368604829
YMin: 3105468.9544635694
XMax: 354147.5249633955
YMax: 3106992.337054366
Spatial Reference: 102100
(3857)
Initial Extent:
XMin: 352420.0368604829
YMin: 3105468.9544635694
XMax: 354147.5249633955
YMax: 3106992.337054366
Spatial Reference: 102100
(3857)
Full Extent:
XMin: 352420.0368604829
YMin: 3105468.9544635694
XMax: 354147.5249633955
YMax: 3106992.337054366
Spatial Reference: 102100
(3857)
Pixel Size X: 0.2023056684521152
Pixel Size Y: 0.2142892939648801
Band Count: 3
Pixel Type: U8
RasterFunction Infos: N/A
Mensuration Capabilities:
Has Histograms: false
Has Colormap: false
Has Multi Dimensions : false
Rendering Rule:
Min Scale: 36111.909643
Max Scale: 1128.497176
Copyright Text:
Service Data Type: esriImageServiceDataTypeRGB
Min Values: N/A
Max Values: N/A
Mean Values: N/A
Standard Deviation Values: N/A
Object ID Field:
Fields:
None
Default Mosaic Method: Center
Allowed Mosaic Methods:
SortField:
SortValue: null
Mosaic Operator: First
Default Compression Quality: 75
Default Resampling Method: Bilinear
Max Record Count: null
Max Image Height: 4100
Max Image Width: 15000
Max Download Image Count: null
Max Mosaic Image Count: null
Allow Raster Function: true
Allow Compute TiePoints: false
Supports Statistics: false
Supports Advanced Queries: false
Use StandardizedQueries: true
Raster Type Infos:
Name: Raster Dataset
Description: Supports all ArcGIS Raster Datasets
Help:
Has Raster Attribute Table: false
Edit Fields Info: null
Ownership Based AccessControl For Rasters: null
Child Resources:
Info
Key Properties
Legend
MultiDimensionalInfo
rasterFunctionInfos
Supported Operations:
Export Image
Identify
Measure
Compute Histograms
Get Samples
Compute Class Statistics