View In:
ArcGIS JavaScript
ArcGIS Online map viewer
Google Earth
ArcMap
View Footprint In:
ArcGIS Online map viewer
Service Description:
Name: tortugas/kernel_img
Description: tortugas/kernel_img
Single Fused Map Cache: false
Extent:
XMin: -3664667.910602568
YMin: 1949605.8119788356
XMax: -287507.9588601836
YMax: 4547606.395905911
Spatial Reference: 102100
(3857)
Initial Extent:
XMin: -3664667.910602568
YMin: 1949605.8119788356
XMax: -287507.9588601836
YMax: 4547606.395905911
Spatial Reference: 102100
(3857)
Full Extent:
XMin: -3664667.910602568
YMin: 1949605.8119788356
XMax: -287507.9588601836
YMax: 4547606.395905911
Spatial Reference: 102100
(3857)
Pixel Size X: 10000.0
Pixel Size Y: 10000.0
Band Count: 1
Pixel Type: F32
RasterFunction Infos: N/A
Mensuration Capabilities: Basic
Has Histograms: true
Has Colormap: false
Has Multi Dimensions : false
Rendering Rule:
Min Scale: 7.3957190948944E7
Max Scale: 72223.819286
Copyright Text:
Service Data Type: esriImageServiceDataTypeGeneric
Min Values: 0
Max Values: 0.080629847943783
Mean Values: 0.0023583038860779
Standard Deviation Values: 0.0065350370648668
Object ID Field:
Fields:
None
Default Mosaic Method: Center
Allowed Mosaic Methods:
SortField:
SortValue: null
Mosaic Operator: First
Default Compression Quality: 75
Default Resampling Method: Bilinear
Max Record Count: null
Max Image Height: 4100
Max Image Width: 15000
Max Download Image Count: null
Max Mosaic Image Count: null
Allow Raster Function: true
Allow Compute TiePoints: false
Supports Statistics: false
Supports Advanced Queries: false
Use StandardizedQueries: true
Raster Type Infos:
Name: Raster Dataset
Description: Supports all ArcGIS Raster Datasets
Help:
Has Raster Attribute Table: false
Edit Fields Info: null
Ownership Based AccessControl For Rasters: null
Child Resources:
Info
Histograms
Key Properties
Legend
MultiDimensionalInfo
rasterFunctionInfos
Supported Operations:
Export Image
Identify
Measure
Compute Histograms
Get Samples
Compute Class Statistics