View In:
ArcGIS JavaScript
ArcGIS Online map viewer
Google Earth
ArcMap
View Footprint In:
ArcGIS Online map viewer
Service Description:
Name: WorldView/MultiWV3_20160625_N
Description: WorldView/MultiWV3_20160625_N
Single Fused Map Cache: false
Extent:
XMin: -1844168.0578300564
YMin: 3249162.859276739
XMax: -1829603.7272520573
YMax: 3264374.4834126765
Spatial Reference: 102100
(3857)
Initial Extent:
XMin: -1844168.0578300564
YMin: 3249162.859276739
XMax: -1829603.7272520573
YMax: 3264374.4834126765
Spatial Reference: 102100
(3857)
Full Extent:
XMin: -1844168.0578300564
YMin: 3249162.859276739
XMax: -1829603.7272520573
YMax: 3264374.4834126765
Spatial Reference: 102100
(3857)
Pixel Size X: 1.6016880000000016
Pixel Size Y: 1.6016879999999967
Band Count: 8
Pixel Type: U16
RasterFunction Infos: N/A
Mensuration Capabilities: Basic,Base-Top Shadow Height
Has Histograms: true
Has Colormap: false
Has Multi Dimensions : false
Rendering Rule:
Min Scale: 144447.638572
Max Scale: 2256.994353
Copyright Text:
Service Data Type: esriImageServiceDataTypeGeneric
Min Values: 276, 250, 275, 255, 153, 177, 122, 115
Max Values: 1988, 2020, 2041, 2047, 1985, 2025, 2003, 2047
Mean Values: 319.89202761447, 308.09332379038, 355.18527460317, 354.63060084946, 226.94980067669, 271.07461665353, 219.676234565, 194.0323824732
Standard Deviation Values: 21.391385552433, 36.204735859041, 71.462981036607, 97.738937726505, 74.83857869594, 99.27284866752, 94.317606014167, 85.768223336216
Object ID Field:
Fields:
None
Default Mosaic Method: Center
Allowed Mosaic Methods:
SortField:
SortValue: null
Mosaic Operator: First
Default Compression Quality: 75
Default Resampling Method: Bilinear
Max Record Count: null
Max Image Height: 4100
Max Image Width: 15000
Max Download Image Count: null
Max Mosaic Image Count: null
Allow Raster Function: true
Allow Compute TiePoints: false
Supports Statistics: false
Supports Advanced Queries: false
Use StandardizedQueries: true
Raster Type Infos:
Name: Raster Dataset
Description: Supports all ArcGIS Raster Datasets
Help:
Has Raster Attribute Table: false
Edit Fields Info: null
Ownership Based AccessControl For Rasters: null
Child Resources:
Info
Histograms
Key Properties
Legend
MultiDimensionalInfo
rasterFunctionInfos
Supported Operations:
Export Image
Identify
Measure
Compute Histograms
Get Samples
Compute Class Statistics