View In:
ArcGIS JavaScript
ArcGIS Online map viewer
Google Earth
ArcMap
View Footprint In:
ArcGIS Online map viewer
Service Description:
Name: fieldWork/20140922_m2_g_atm_clp_alb
Description: fieldWork/20140922_m2_g_atm_clp_alb
Single Fused Map Cache: false
Extent:
XMin: -1841095.1116229787
YMin: 3250311.8026997917
XMax: -1829678.0231860708
YMax: 3264184.0328198886
Spatial Reference: 102100
(3857)
Initial Extent:
XMin: -1841095.1116229787
YMin: 3250311.8026997917
XMax: -1829678.0231860708
YMax: 3264184.0328198886
Spatial Reference: 102100
(3857)
Full Extent:
XMin: -1841095.1116229787
YMin: 3250311.8026997917
XMax: -1829678.0231860708
YMax: 3264184.0328198886
Spatial Reference: 102100
(3857)
Pixel Size X: 2.0
Pixel Size Y: 2.0
Band Count: 6
Pixel Type: F32
RasterFunction Infos: N/A
Mensuration Capabilities: Basic
Has Histograms: true
Has Colormap: false
Has Multi Dimensions : false
Rendering Rule:
Min Scale: 144447.638572
Max Scale: 1128.497176
Copyright Text:
Service Data Type: esriImageServiceDataTypeGeneric
Min Values: 0, 0, 0, 0, 0, -120
Max Values: 0.42960843443871, 0.54568123817444, 0.5722182393074, 0.52795743942261, 0.49768275022507, 12.52833366394
Mean Values: 0.011043044472557, 0.014000492523073, 0.0065459062681438, 0.0031886775377401, 0.0016958199193539, -106.23700329506
Standard Deviation Values: 0.016075298962904, 0.020535454419753, 0.010343538817769, 0.005736094454742, 0.0038554905779368, 32.01815952864
Object ID Field:
Fields:
None
Default Mosaic Method: Center
Allowed Mosaic Methods:
SortField:
SortValue: null
Mosaic Operator: First
Default Compression Quality: 75
Default Resampling Method: Bilinear
Max Record Count: null
Max Image Height: 4100
Max Image Width: 15000
Max Download Image Count: null
Max Mosaic Image Count: null
Allow Raster Function: true
Allow Compute TiePoints: false
Supports Statistics: false
Supports Advanced Queries: false
Use StandardizedQueries: true
Raster Type Infos:
Name: Raster Dataset
Description: Supports all ArcGIS Raster Datasets
Help:
Has Raster Attribute Table: false
Edit Fields Info: null
Ownership Based AccessControl For Rasters: null
Child Resources:
Info
Histograms
Key Properties
Legend
MultiDimensionalInfo
rasterFunctionInfos
Supported Operations:
Export Image
Identify
Measure
Compute Histograms
Get Samples
Compute Class Statistics